BEGIN:VCALENDAR
VERSION:2.0
PRODID:-//Pro Velo Kanton Zürich - ECPv5.0.2.1//NONSGML v1.0//EN
CALSCALE:GREGORIAN
METHOD:PUBLISH
X-WR-CALNAME:Pro Velo Kanton Zürich
X-ORIGINAL-URL:https://www.provelozuerich.ch
X-WR-CALDESC:Events for Pro Velo Kanton Zürich
BEGIN:VTIMEZONE
TZID:Europe/Berlin
BEGIN:DAYLIGHT
TZOFFSETFROM:+0100
TZOFFSETTO:+0200
TZNAME:CEST
DTSTART:20260329T010000
END:DAYLIGHT
BEGIN:STANDARD
TZOFFSETFROM:+0200
TZOFFSETTO:+0100
TZNAME:CET
DTSTART:20261025T010000
END:STANDARD
END:VTIMEZONE
BEGIN:VEVENT
DTSTART;TZID=Europe/Berlin:20260509T140000
DTEND;TZID=Europe/Berlin:20260509T160000
DTSTAMP:20260424T154607
CREATED:20260309T182730Z
LAST-MODIFIED:20260309T182730Z
UID:12433-1778335200-1778342400@www.provelozuerich.ch
SUMMARY:Kidical Mass
DESCRIPTION:Die Kidical Mass ist ein Veloumzug für Kinder und Familien. In gemütlichem Tempo fahren die Kids im Verbund auf den Strassen von Zürich\, zuweilen auch auf den ganz grossen\, was den Kleinen besonders viel Freude beschert. Die Ausfahrt dauert in der Regel eineinhalb Stunden – und die Strecke ist maximal 5 Kilometer lang. \nDer Umzug wird von der Polizei und Vélorution-Mitgliedern begleitet. So können alle die freien Strassen geniessen\, ohne sich um ihre Sicherheit fürchten zu müssen. \nMehr Infos auf www.kidicalmass.ch. \n
URL:https://www.provelozuerich.ch/event/kidical-mass-11/
CATEGORIES:Externer Anlass
ATTACH;FMTTYPE=image/jpeg:https://www.provelozuerich.ch/wp-content/uploads/2023/04/20210508-152055.jpg
END:VEVENT
END:VCALENDAR